BEGIN:VCALENDAR
VERSION:2.0
PRODID:-//www.theater-trier.de//NONSGML kigkonsult.se iCalcreator 2.39.1//
CALSCALE:GREGORIAN
METHOD:PUBLISH
UID:56efc935-7354-48fb-be65-44d5b3ffb0a9
X-WR-CALNAME:
X-WR-TIMEZONE:Europe/Berlin
BEGIN:VEVENT
UID:_1054
DTSTAMP:20260425T231710Z
DESCRIPTION:Programm\n\nJohann Sebastian Bach (1685 – 1750)Konzert für Cemb
 alo und Streicher Nr. 5 f-Moll BWV 1056\nGeorg Friedrich Händel (1685 – 17
 59)Ombra mai fu aus Serse HWV 40\nAntonio Vivaldi (1678 – 1741)Concerto fü
 r Streicher g-Moll RV 158\nGeorg Friedrich Händel (1685 – 1759)E pur cosi 
 in un giorno — Piangero la sorte mia aus Giulio Cesare in Egitto HWV 17\nA
 ntonio Vivaldi (1678 – 1741)Sinfonia h-Moll RV 169 Al Santo Sepolcro\nGeor
 g Friedrich Händel (1685 – 1759)Rejoice greatly aus Messiah HWV 56\nAntoni
 o Vivaldi (1678 – 1741)Concerto für Streicher d-Moll RV 127
DTSTART;TZID=CEST:20260510T110000
DTEND;TZID=CEST:20260510T110000
LOCATION:
SUMMARY:4. Klassik um 11
END:VEVENT
END:VCALENDAR
