BEGIN:VCALENDAR
VERSION:2.0
PRODID:-//www.theater-trier.de//NONSGML kigkonsult.se iCalcreator 2.39.1//
CALSCALE:GREGORIAN
METHOD:PUBLISH
UID:15573d5b-181a-4379-8f7a-3fd7ae85ac27
X-WR-CALNAME:
X-WR-TIMEZONE:Europe/Berlin
BEGIN:VEVENT
UID:_1055
DTSTAMP:20260425T220121Z
DESCRIPTION:Was ist wohl die bekannteste und beliebteste Oper der Welt? Na 
 klar! Das muss Die Zauberflöte von Wolfgang Amadeus Mozart sein. Da hat de
 r Frechdachs ein buntes Stückchen wunderbaren Musiktheaters in die Notenli
 nien gekleckert. Das gefiel sogar der Mutter von Goethe so gut\, dass sie 
 ihm schrieb: „So ein Specktackel hat man hier noch nicht erlebt.“ Grund ge
 nug\, dieses ‚Specktackel‘ auch mal für die ganze Familie aufzuführen.\nDa
 s Philharmonische Orchester der Stadt Trier bietet zusammen mit Solistinne
 n und Solisten des Opernensembles die wohl beliebteste Oper aller Zeiten a
 ls witziges szenisches Konzert für Schulen und die ganze Familie. Behutsam
  auf etwa eine Stunde gekürzt\, bleibt das Treiben in der Märchenwelt doch
  bunt wie eh und je: Mit der Königin der Nacht und ihrer Tochter Pamina\, 
 dem Prinzen Tamino und natürlich dem lustigen Vogelfänger Papageno. Alle g
 emeinsam singen und spielen\, in einer Welt von Dunkelheit und Licht.\nKap
 ellmeister Wouter Padberg wird die ganze musikalische Vielfalt Mozarts prä
 sentieren und bietet mit der kleinen Zauberflöte nicht nur einen optimalen
  kindgerechten Einstieg in die Welt der Oper\, sondern auch humorvolle mus
 ikalische Unterhaltung für Erwachsene. Mozart hätte daran gewiss seinen Sp
 aß gehabt.
DTSTART;TZID=CEST:20260912T180000
DTEND;TZID=CEST:20260912T180000
LOCATION:
SUMMARY:Die kleine Zauberflöte
END:VEVENT
END:VCALENDAR
