BEGIN:VCALENDAR
VERSION:2.0
PRODID:-//www.theater-trier.de//NONSGML kigkonsult.se iCalcreator 2.39.1//
CALSCALE:GREGORIAN
METHOD:PUBLISH
UID:d328258e-841e-4bf2-a1b9-45fc29d9fb56
X-WR-CALNAME:
X-WR-TIMEZONE:Europe/Berlin
BEGIN:VEVENT
UID:_1090
DTSTAMP:20260425T140327Z
DESCRIPTION:Weltmusik der Extraklasse erwartet Sie\, wenn Cellistin und Sän
 gerin Nesrine musizierend das Podium des Trierer Theaters erobert. Die kla
 ssisch ausgebildete Violoncellistin war zunächst höchst erfolgreich in die
 sem Metier tätig\, gefördert von Lorin Maazel\, Placido Domingo und Daniel
  Barenboim. Dann entdeckte sie für den international bekannten Cirque de s
 oleil ihre Liebe zur Weltmusik. In ihre Songs ließ sie ihre biographischen
  Wurzeln und Erfahrungen einfließen\, die algerische Herkunft ihrer Famili
 e\, ihre eigene französische Heimat und ihre Wahlheimat Valencia.
DTSTART;TZID=CEST:20260430T193000
DTEND;TZID=CEST:20260430T193000
LOCATION:
SUMMARY:3. Mixed Zone
END:VEVENT
END:VCALENDAR
