BEGIN:VCALENDAR
VERSION:2.0
PRODID:-//www.theater-trier.de//NONSGML kigkonsult.se iCalcreator 2.39.1//
CALSCALE:GREGORIAN
METHOD:PUBLISH
UID:b394943c-6af8-4d46-970b-6eac019382d1
X-WR-CALNAME:
X-WR-TIMEZONE:Europe/Berlin
BEGIN:VEVENT
UID:_1115
DTSTAMP:20260425T184115Z
DESCRIPTION:Alter:\n???\nPersonenzahl:\nmax. 20 Jugendliche\nLeitung:\nLise
 nka Sedlacek\nZeitraum:\nab Juni 2026\nKosten:\ndie Teilnahme am Spielclub
  ist kostenlos\, Tickets für Aufführung: ab 12\,00 € | erm. 10\,00 €\n\n\n
 \nJulia Capulet stammt aus reichem Hause\, ist sehnsuchtsvoll Leonardo DiC
 aprio verfallen\, aber dem jungen Mann Paris versprochen. Auf einer Party 
 treffen ihre verwöhnten Freundinnen in Designer-Klamotten auf Romeo Montag
 ue und seine Kumpels aus der Vorstadt. Klingt wie ein Klischee? Ist es abe
 r nicht\, denn die Charaktere in dieser modernen Klassikeradaption sind we
 sentlich differenzierter und vielseitiger als die soziale Zuordnung es ers
 cheinen lässt. Doch kann in dieser Fassung der tragische Tod des berühmten
  Liebespaares verhindert werden? Nachdem wir uns in den letzten zwei Spiel
 zeiten mit aktuell politischen Themen beschäftigt haben\, spielen wir in d
 ieser Spielzeit einen Klassiker auf (fast) komödiantische Art.
DTSTART;TZID=CEST:20260529T180000
DTEND;TZID=CEST:20260529T180000
LOCATION:
SUMMARY:Romeo und Julia
END:VEVENT
END:VCALENDAR
