BEGIN:VCALENDAR
VERSION:2.0
PRODID:-//www.theater-trier.de//NONSGML kigkonsult.se iCalcreator 2.39.1//
CALSCALE:GREGORIAN
METHOD:PUBLISH
UID:12cf8510-a459-400d-a142-d14c694e5082
X-WR-CALNAME:
X-WR-TIMEZONE:Europe/Berlin
BEGIN:VEVENT
UID:_1139
DTSTAMP:20260425T140347Z
DESCRIPTION:Programm\n\nRichard Wagner (1813 - 1883)Wesendoncklieder\nAnton
  Bruckner (1824 - 1896)Symphonie Nr. 4 Es-Dur in der 2. Fassung (1878-80)
DTSTART;TZID=CEST:20260613T193000
DTEND;TZID=CEST:20260613T193000
LOCATION:
SUMMARY:8. Sinfoniekonzert
END:VEVENT
END:VCALENDAR
