BEGIN:VCALENDAR
VERSION:2.0
PRODID:-//www.theater-trier.de//NONSGML kigkonsult.se iCalcreator 2.39.1//
CALSCALE:GREGORIAN
METHOD:PUBLISH
UID:ed06e82e-311b-476a-9184-882dc26b1970
X-WR-CALNAME:
X-WR-TIMEZONE:Europe/Berlin
BEGIN:VEVENT
UID:_1284
DTSTAMP:20260425T201518Z
DESCRIPTION:Programm\n\nHauke Berheide (* 1980)Auftragswerk für Kinder- und
  Jugendchor und Orchester UA\nLudwig van Beethoven (1770 - 1827)Symphonie 
 Nr. 9 d-Moll op. 125
DTSTART;TZID=CEST:20260522T193000
DTEND;TZID=CEST:20260522T193000
LOCATION:
SUMMARY:7. Sinfoniekonzert
END:VEVENT
END:VCALENDAR
