BEGIN:VCALENDAR
VERSION:2.0
PRODID:-//www.theater-trier.de//NONSGML kigkonsult.se iCalcreator 2.39.1//
CALSCALE:GREGORIAN
METHOD:PUBLISH
UID:65b9caaa-5a2d-44a2-9236-184b96b9c3e8
X-WR-CALNAME:
X-WR-TIMEZONE:Europe/Berlin
BEGIN:VEVENT
UID:_1298
DTSTAMP:20260425T140347Z
DESCRIPTION:Programm\n\nHauke Berheide (* 1980)Auftragswerk für Kinder- und
  Jugendchor und Orchester UA\nLudwig van Beethoven (1770 - 1827)Symphonie 
 Nr. 9 d-Moll op. 125
DTSTART;TZID=CEST:20260521T193000
DTEND;TZID=CEST:20260521T193000
LOCATION:
SUMMARY:7. Sinfoniekonzert
END:VEVENT
END:VCALENDAR
