BEGIN:VCALENDAR
VERSION:2.0
PRODID:-//www.theater-trier.de//NONSGML kigkonsult.se iCalcreator 2.39.1//
CALSCALE:GREGORIAN
METHOD:PUBLISH
UID:c1c2f82d-eacb-4d6a-93e4-f5339963a6a0
X-WR-CALNAME:
X-WR-TIMEZONE:Europe/Berlin
BEGIN:VEVENT
UID:_1354
DTSTAMP:20260425T195939Z
DESCRIPTION:
DTSTART;TZID=CEST:20260821T193000
DTEND;TZID=CEST:20260821T193000
LOCATION:
SUMMARY:Anatevka (Fiddler on the Roof)
END:VEVENT
END:VCALENDAR
