BEGIN:VCALENDAR
VERSION:2.0
PRODID:-//www.theater-trier.de//NONSGML kigkonsult.se iCalcreator 2.39.1//
CALSCALE:GREGORIAN
METHOD:PUBLISH
UID:f7805939-ead3-464a-8464-3401a9d2537d
X-WR-CALNAME:
X-WR-TIMEZONE:Europe/Berlin
BEGIN:VEVENT
UID:_1355
DTSTAMP:20260425T183555Z
DESCRIPTION:
DTSTART;TZID=CEST:20260822T193000
DTEND;TZID=CEST:20260822T193000
LOCATION:
SUMMARY:Anatevka (Fiddler on the Roof)
END:VEVENT
END:VCALENDAR
