BEGIN:VCALENDAR
VERSION:2.0
PRODID:-//www.theater-trier.de//NONSGML kigkonsult.se iCalcreator 2.39.1//
CALSCALE:GREGORIAN
METHOD:PUBLISH
UID:79e401fd-407a-4013-8bab-db300ceca684
X-WR-CALNAME:
X-WR-TIMEZONE:Europe/Berlin
BEGIN:VEVENT
UID:_1356
DTSTAMP:20260425T195725Z
DESCRIPTION:
DTSTART;TZID=CEST:20260823T193000
DTEND;TZID=CEST:20260823T193000
LOCATION:
SUMMARY:Anatevka (Fiddler on the Roof)
END:VEVENT
END:VCALENDAR
