BEGIN:VCALENDAR
VERSION:2.0
PRODID:-//www.theater-trier.de//NONSGML kigkonsult.se iCalcreator 2.39.1//
CALSCALE:GREGORIAN
METHOD:PUBLISH
UID:66636f07-6169-4039-b6a2-fb368cf6f286
X-WR-CALNAME:
X-WR-TIMEZONE:Europe/Berlin
BEGIN:VEVENT
UID:_1357
DTSTAMP:20260425T182451Z
DESCRIPTION:
DTSTART;TZID=CEST:20260825T193000
DTEND;TZID=CEST:20260825T193000
LOCATION:
SUMMARY:Anatevka (Fiddler on the Roof)
END:VEVENT
END:VCALENDAR
