BEGIN:VCALENDAR
VERSION:2.0
PRODID:-//www.theater-trier.de//NONSGML kigkonsult.se iCalcreator 2.39.1//
CALSCALE:GREGORIAN
METHOD:PUBLISH
UID:5ef5a38d-80ca-4ad7-9da6-3052489adf2f
X-WR-CALNAME:
X-WR-TIMEZONE:Europe/Berlin
BEGIN:VEVENT
UID:_1358
DTSTAMP:20260425T183401Z
DESCRIPTION:
DTSTART;TZID=CEST:20260828T193000
DTEND;TZID=CEST:20260828T193000
LOCATION:
SUMMARY:Anatevka (Fiddler on the Roof)
END:VEVENT
END:VCALENDAR
