BEGIN:VCALENDAR
VERSION:2.0
PRODID:-//www.theater-trier.de//NONSGML kigkonsult.se iCalcreator 2.39.1//
CALSCALE:GREGORIAN
METHOD:PUBLISH
UID:6e5e8601-5a47-492d-ab15-00339d6af37d
X-WR-CALNAME:
X-WR-TIMEZONE:Europe/Berlin
BEGIN:VEVENT
UID:_1359
DTSTAMP:20260425T183448Z
DESCRIPTION:
DTSTART;TZID=CEST:20260829T193000
DTEND;TZID=CEST:20260829T193000
LOCATION:
SUMMARY:Anatevka (Fiddler on the Roof)
END:VEVENT
END:VCALENDAR
