BEGIN:VCALENDAR
VERSION:2.0
PRODID:-//www.theater-trier.de//NONSGML kigkonsult.se iCalcreator 2.39.1//
CALSCALE:GREGORIAN
METHOD:PUBLISH
UID:ea38bebe-6270-4eb9-8e97-bb025b5c4774
X-WR-CALNAME:
X-WR-TIMEZONE:Europe/Berlin
BEGIN:VEVENT
UID:_1371
DTSTAMP:20260425T184035Z
DESCRIPTION:Ein Klassiker in modernem Gewand: Roberto Scafati holt das Märc
 hen in die Gegenwart und erzählt vom Erwachsenwerden\, von Mut und Zusamme
 nhalt. In seiner Adaption ist es die Geschichte von Siegfried\, der nicht 
 erwachsen werden will.\nAls Siegfrieds Mutter an dessen Geburtstag seine K
 indheit für beendet erklärt\, steht die Welt plötzlich Kopf. Realität und 
 Fantasie seiner Spielwelt verschwimmen vor Siegfrieds Augen. Er trifft auf
  das Schwanenmädchen Odette\, das vom Zauberer Rotbart gefangen gehalten w
 ird. Um die beiden auseinander zu treiben\, erschafft Rotbart die Doppelgä
 ngerin Odile\, die Siegfried als schwarzer Schwan verführen soll.
DTSTART;TZID=CEST:20260507T193000
DTEND;TZID=CEST:20260507T193000
LOCATION:
SUMMARY:Schwanensee
END:VEVENT
END:VCALENDAR
