BEGIN:VCALENDAR
VERSION:2.0
PRODID:-//www.theater-trier.de//NONSGML kigkonsult.se iCalcreator 2.39.1//
CALSCALE:GREGORIAN
METHOD:PUBLISH
UID:2a43666b-fbdd-41ef-9dc8-0e6c8bdd1846
X-WR-CALNAME:
X-WR-TIMEZONE:Europe/Berlin
BEGIN:VEVENT
UID:_1379
DTSTAMP:20260425T215512Z
DESCRIPTION:Rico ist neugierig und ein wirklich guter Beobachter. So fällt 
 ihm auf\, was andere gar nicht bemerken\, etwa die unheimlichen Tieferscha
 tten\, die er seit einiger Zeit im Hinterhaus wahrnimmt\, obwohl das seit 
 der Gasexplosion doch unbewohnt ist. Wenn Rico allerdings Druck verspürt u
 nd aufgeregt ist\, wirbeln die Gedanken in seinem Kopf wie die Kugeln in d
 er Auslose-Trommel des Bingo-Spiels wild durcheinander. Kein Wunder\, dass
  er manchmal etwas länger braucht\, sie zu sortieren und darum langsamer i
 st als andere. Deswegen bezeichnet er sich selbst als „tiefbegabt“. Ganz a
 nders ergeht es seinem neuen Freund Oskar\, der zwar hochbegabt ist\, aber
  von seinen zahlreichen Ängsten zurückgehalten wird. Zur Sicherheit schaut
  er häufig nur durch das Visier seines Helms auf die Unmengen von Gefahren
 \, die ihm ständig begegnen könnten.\nBeunruhigende Nachrichten von entfüh
 rten Kindern\, Lösegelderpressungen und Mister 2000 machen schon länger di
 e Runde. Und als der so zuverlässige Oskar zu einer Verabredung mit Rico n
 icht erscheint und auch weiter unauffindbar bleibt\, erkennt Rico\, dass e
 r gefordert ist\, seine Bingokugeln schnell richtig zu ordnen\, um seinem 
 Freund zu helfen.\nEin großes Abenteuer zweier sehr unterschiedlicher Held
 en\, die weit über sich hinauswachsen und einen echten Krimi lösen.
DTSTART;TZID=CEST:20260514T160000
DTEND;TZID=CEST:20260514T160000
LOCATION:
SUMMARY:Rico\, Oskar und die Tieferschatten
END:VEVENT
END:VCALENDAR
