BEGIN:VCALENDAR
VERSION:2.0
PRODID:-//www.theater-trier.de//NONSGML kigkonsult.se iCalcreator 2.39.1//
CALSCALE:GREGORIAN
METHOD:PUBLISH
UID:457f55b1-8c80-4690-bf72-6cfc9cf1971c
X-WR-CALNAME:
X-WR-TIMEZONE:Europe/Berlin
BEGIN:VEVENT
UID:_1406
DTSTAMP:20260425T183749Z
DESCRIPTION:In den letzten Jahren hat jede dritte Kneipe in Deutschland sch
 ließen müssen. Steuern wir darauf zu\, dass Kneipen bald nur noch im Museu
 m zu finden sind?\nDie Teilnehmenden des Bürgertheaters haben eigene Erinn
 erungen und Vorurteile mitgebracht und sich ein halbes Jahr lang gefragt\,
  was eigentlich verloren geht\, wenn die Kneipe ihre letzte Runde einläute
 t. Entstanden ist eine performative Theatercollage\, die durch die Räume d
 es Museums führt und zwischen Nostalgie und Ernüchterung schwankt. Gemeins
 am mit dem Publikum spüren die Spielerinnen und Spieler nach\, was die Kne
 ipe ist\, war und sein könnte. Ein Treffpunkt\, Zufluchtsort und politisch
 er Raum – oder doch nur Kater\, Bereuen und ein schlechter Beigeschmack? D
 as Publikum ist eingeladen\, vom Zuschauenden zum Gast zu werden — Impulse
  zu setzen\, eigene Erinnerungen mitzubringen und gemeinsam die Kneipe der
  Zukunft zu feiern. \nKein Theatervorwissen nötig. Nur Neugier.
DTSTART;TZID=CEST:20260602T200000
DTEND;TZID=CEST:20260602T200000
LOCATION:
SUMMARY:Letzte Runde
END:VEVENT
END:VCALENDAR
