BEGIN:VCALENDAR
VERSION:2.0
PRODID:-//www.theater-trier.de//NONSGML kigkonsult.se iCalcreator 2.39.1//
CALSCALE:GREGORIAN
METHOD:PUBLISH
UID:fcd854d4-5110-4c58-a466-055626fbb8ad
X-WR-CALNAME:
X-WR-TIMEZONE:Europe/Berlin
BEGIN:VEVENT
UID:_1413
DTSTAMP:20260424T125227Z
DESCRIPTION:Die Kammerkonzerte sind unsere kleinen Konzertformate mit große
 m Genussfaktor. Erleben Sie unsere Künstlerinnen und Künstler in solistisc
 her Besetzung ganz aus der Nähe und in intimem Rahmen\, lassen Sie sich ve
 rzaubern\, überraschen und begeistern von den immer wieder spannenden Prog
 rammen.\nJoseph Haydn (1732 – 1809) Streichquartett Nr. 64 D-Dur op. 76\, 
 5\nJohannes Brahms (1833 – 1897) Streichquartett Nr. 2 a-Moll op. 51\, 2
DTSTART;TZID=CEST:20260426T170000
DTEND;TZID=CEST:20260426T170000
LOCATION:
SUMMARY:5. Kammerkonzert
END:VEVENT
END:VCALENDAR
