BEGIN:VCALENDAR
VERSION:2.0
PRODID:-//www.theater-trier.de//NONSGML kigkonsult.se iCalcreator 2.39.1//
CALSCALE:GREGORIAN
METHOD:PUBLISH
UID:5ab6d909-2006-43f7-8d13-46b7fba2faba
X-WR-CALNAME:
X-WR-TIMEZONE:Europe/Berlin
BEGIN:VEVENT
UID:_1415
DTSTAMP:20260425T182211Z
DESCRIPTION:
DTSTART;TZID=CEST:20260826T193000
DTEND;TZID=CEST:20260826T193000
LOCATION:
SUMMARY:Anatevka (Fiddler on the Roof)
END:VEVENT
END:VCALENDAR
