BEGIN:VCALENDAR
VERSION:2.0
PRODID:-//www.theater-trier.de//NONSGML kigkonsult.se iCalcreator 2.39.1//
CALSCALE:GREGORIAN
METHOD:PUBLISH
UID:9f33bffd-4a88-47e9-9ee4-765dd827a36d
X-WR-CALNAME:
X-WR-TIMEZONE:Europe/Berlin
BEGIN:VEVENT
UID:_1417
DTSTAMP:20260425T183747Z
DESCRIPTION:
DTSTART;TZID=CEST:20260830T193000
DTEND;TZID=CEST:20260830T193000
LOCATION:
SUMMARY:Anatevka (Fiddler on the Roof)
END:VEVENT
END:VCALENDAR
